BEGIN:VCALENDAR
VERSION:2.0
PRODID:-//ChamberMaster//Event Calendar 2.0//EN
METHOD:PUBLISH
X-PUBLISHED-TTL:P3D
REFRESH-INTERVAL:P3D
CALSCALE:GREGORIAN
BEGIN:VEVENT
DTSTART:20171007T200000Z
DTEND:20171008T010000Z
X-MICROSOFT-CDO-ALLDAYEVENT:FALSE
SUMMARY:An Evening on the Square
DESCRIPTION:Together with the Village of Manteno and the Community Arts Council\, we invite you to the official Grand Opening of the new 2nd Street Plaza!  We will begin the celebration with the plaza name reveal and a ribbon cutting at 3:00. Following the opening ceremonies\, you will be greeted with over 30  local artists  from the Community Arts Council of Kankakee County\, live musical acts\, strolling magician & special guest\, Mark Twain!  Bennett-Curtis House will be selling a variety of food options and beer and wine provided by Grapes & Hops.  Bring the whole family! It will be a great night for all to enjoy. Find more info at our Facebook page here.
X-ALT-DESC;FMTTYPE=text/html:Together with the Village of Manteno and the Community Arts Council\, we invite you to the official Grand Opening of the new 2nd Street Plaza! &nbsp\;We will begin the celebration with the plaza name reveal and a ribbon cutting at 3:00. Following the opening ceremonies\, you will be greeted with over 30&nbsp\; local artists&nbsp\; from the Community Arts Council of Kankakee County\, live musical acts\, strolling magician &amp\; special guest\, Mark Twain!&nbsp\; Bennett-Curtis House will be selling a variety of food options and beer and wine provided by Grapes &amp\; Hops. &nbsp\;Bring the whole family! It will be a great night for all to enjoy. Find more info at our Facebook page <a href="https://www.facebook.com/events/494018834290592/?acontext=%7B%22source%22%3A5%2C%22page_id_source%22%3A183911878457719%2C%22action_history%22%3A[%7B%22surface%22%3A%22page%22%2C%22mechanism%22%3A%22main_list%22%2C%22extra_data%22%3A%22%7B%5C%22page_id%5C%22%3A183911878457719%2C%5C%22tour_id%5C%22%3Anull%7D%22%7D]%2C%22has_source%22%3Atrue%7D">here</a>.&nbsp\;
LOCATION:2nd Street Plaza Manteno
UID:e.2824.58
SEQUENCE:3
DTSTAMP:20260423T220313Z
URL:https://business.mantenochamber.com/events/details/an-evening-on-the-square-58
END:VEVENT

END:VCALENDAR
