BEGIN:VCALENDAR
VERSION:2.0
PRODID:-//ChamberMaster//Event Calendar 2.0//EN
METHOD:PUBLISH
X-PUBLISHED-TTL:P3D
REFRESH-INTERVAL:P3D
CALSCALE:GREGORIAN
BEGIN:VEVENT
DTSTART:20180228T173000Z
DTEND:20180228T183000Z
X-MICROSOFT-CDO-ALLDAYEVENT:FALSE
SUMMARY:Chamber 101 Lunch
DESCRIPTION:Join the Manteno Chamber of Commerce for Chamber 101\, a special FREE session that helps you make the most of your membership. This one hour\, informal get together includes a review of free member services\, promotional opportunities\, and our events and programs. We encourage all new members\, new managers\, and current members who would like a quick reminder of their member benefits to register! Complimentary lunch served.
X-ALT-DESC;FMTTYPE=text/html:Join the Manteno Chamber of Commerce for Chamber 101\, a special FREE session that helps you make the most of your membership. This one hour\, informal get together includes a review of free member services\, promotional opportunities\, and our events and programs. We encourage all new members\, new managers\, and current members who would like a quick reminder of their member benefits to register! Complimentary lunch served.
LOCATION:Leo Hassett Community Center 211 N. Main St. Manteno
UID:e.2824.70
SEQUENCE:3
DTSTAMP:20260420T221124Z
URL:https://business.mantenochamber.com/events/details/chamber-101-lunch-70
END:VEVENT

END:VCALENDAR
