BEGIN:VCALENDAR
VERSION:2.0
PRODID:-//ChamberMaster//Event Calendar 2.0//EN
METHOD:PUBLISH
X-PUBLISHED-TTL:P3D
REFRESH-INTERVAL:P3D
CALSCALE:GREGORIAN
BEGIN:VEVENT
DTSTART;VALUE=DATE:20250315
DTEND;VALUE=DATE:20250317
TRANSP:TRANSPARENT
X-MICROSOFT-CDO-ALLDAYEVENT:TRUE
SUMMARY:KVTA’s Shrek Jr.
DESCRIPTION:SHREK JR ~ Everyone's favorite ogre is back in this hilarious stage spectacle\, based on the Oscar-winning smash hit film and outrageous Broadway musical. Beauty is in the eye of the ogre in Shrek The Musical JR.\, based on the Oscar-winning DreamWorks Animation film and fantastic Broadway musical.  It's a "big bright beautiful world" as everyone's favorite ogre\, Shrek\, leads a cast of fairytale misfits on an adventure to rescue a princess and find true acceptance.  Part romance and part twisted fairy tale\, Shrek JR. is an irreverently fun show with a powerful message for the whole family.\n\nOnce upon a time\, in a far away swamp\, there lived an ogre named Shrek. One day\, Shrek finds his swamp invaded by banished fairytale misfits who have been cast off by Lord Farquaad\, a tiny terror with big ambitions. When Shrek sets off with a wisecracking donkey to confront Farquaad\, he's handed a task - if he rescues feisty princess Fiona\, his swamp will be righted. Shrek tries to win Fiona's love and vanquish Lord Farquaad\, but a fairytale wouldn't be complete without a few twists and turns along the way.??
X-ALT-DESC;FMTTYPE=text/html:<span style="font-size:12pt"><span style="font-family:times new roman">SHREK JR&nbsp\;~ Everyone&#39\;s favorite ogre is back in this hilarious stage spectacle\, based on the Oscar-winning smash hit film and outrageous Broadway musical. Beauty is in the eye of the ogre in Shrek The Musical JR.\, based on the Oscar-winning DreamWorks Animation film and fantastic Broadway musical. &nbsp\;It&#39\;s a &quot\;big bright beautiful world&quot\; as everyone&#39\;s favorite ogre\, Shrek\, leads a cast of fairytale misfits on an adventure to rescue a princess and find true acceptance. &nbsp\;Part romance and part twisted fairy tale\, Shrek JR. is an irreverently fun show with a powerful message for the whole family.</span></span><br />\n<span style="font-size:12pt"><span style="font-family:times new roman">Once upon a time\, in a far away swamp\, there lived an ogre named Shrek. One day\, Shrek finds his swamp invaded by banished fairytale misfits who have been cast off by Lord Farquaad\, a tiny terror with big ambitions. When Shrek sets off with a wisecracking donkey to confront Farquaad\, he&#39\;s handed a task - if he rescues feisty princess Fiona\, his swamp will be righted. Shrek tries to win Fiona&rsquo\;s love and vanquish Lord Farquaad\, but a fairytale wouldn&#39\;t be complete without a few twists and turns along the way.??</span></span>
LOCATION:Lincoln Cultural Center 240 Warren Ave Kankakee IL 60901
UID:e.2824.1572
SEQUENCE:3
DTSTAMP:20260423T082621Z
URL:https://business.mantenochamber.com/events/details/kvta-s-shrek-jr-1572
END:VEVENT

END:VCALENDAR
