BEGIN:VCALENDAR
VERSION:2.0
PRODID:-//ChamberMaster//Event Calendar 2.0//EN
METHOD:PUBLISH
X-PUBLISHED-TTL:P3D
REFRESH-INTERVAL:P3D
CALSCALE:GREGORIAN
BEGIN:VEVENT
DTSTART:20180215T173000Z
DTEND:20180215T183000Z
X-MICROSOFT-CDO-ALLDAYEVENT:FALSE
SUMMARY:Lunch & Learn: HR 101
DESCRIPTION:If you are a small business\, most likely you do not have an HR department--YOU ARE your HR department among the many other hats you wear. In this session\, Krista Grable\, Human Resources Manager from All Star Management will teach you all the basics of HR including: \n\nTips for building a successful work team\n\nMinimizing workplace negativity\n\nWhat great managers do differently to retain their staff\n\nWays to show appreciation\n\nDealing with the challenging employees\n\n\n\nComplimentary lunch from Wendy's included\; members can attend for FREE! Thank you to All Star Management & Wendy's of Manteno for providing lunch.
X-ALT-DESC;FMTTYPE=text/html:If you are a small business\, most likely you do not have an HR department--YOU ARE your HR department among the many other hats you wear. In this session\, Krista Grable\, Human Resources Manager from All Star Management will teach you all the basics of HR including:&nbsp\;<br />\nTips for building a successful work team<br />\nMinimizing workplace negativity<br />\nWhat great managers do differently to retain their staff<br />\nWays to show appreciation<br />\nDealing with the challenging employees<br />\n<br />\nComplimentary lunch from Wendy&#39\;s included\; members can attend for FREE! <em>Thank you to All Star Management &amp\; Wendy&#39\;s of Manteno for providing lunch.</em>
LOCATION:Leo Hassett Community Center 211 N. Main St. Manteno
UID:e.2824.67
SEQUENCE:3
DTSTAMP:20260420T204907Z
URL:https://business.mantenochamber.com/events/details/lunch-learn-hr-101-67
END:VEVENT

END:VCALENDAR
