BEGIN:VCALENDAR
VERSION:2.0
PRODID:-//ChamberMaster//Event Calendar 2.0//EN
METHOD:PUBLISH
X-PUBLISHED-TTL:P3D
REFRESH-INTERVAL:P3D
CALSCALE:GREGORIAN
BEGIN:VEVENT
DTSTART:20180516T170000Z
DTEND:20180516T180000Z
X-MICROSOFT-CDO-ALLDAYEVENT:FALSE
SUMMARY:Lunch & Learn: Power Hour with IMEC
DESCRIPTION:We are joining forces with the Economic Alliance of Kankakee County & the Kankakee County Chamber of Commerce to bring you experts from the IMEC (Illinois Manufacturing Excellence Center)\n\nTopics discussed:\n\n	Services provided by the Illinois Manufacturing Excellence Center\n	IMEC approach to Root-Cause Analysis/Problem Solving\n	2017 Case Study: Plochman's Manteno\n\nLearn more about the IMEC here
X-ALT-DESC;FMTTYPE=text/html:We are joining forces with the Economic Alliance of Kankakee County &amp\; the Kankakee County Chamber of Commerce to bring you experts from the&nbsp\;IMEC (Illinois Manufacturing Excellence Center)<br />\nTopics discussed:\n<ul>\n	<li>Services provided by the Illinois Manufacturing Excellence Center</li>\n	<li>IMEC&nbsp\;approach to Root-Cause Analysis/Problem Solving</li>\n	<li>2017 Case Study: Plochman&#39\;s Manteno</li>\n</ul>\nLearn more about the IMEC&nbsp\;<a href="https://www.imec.org/">here</a>
LOCATION:4th Floor at the Kankakee Public Library
UID:e.2824.86
SEQUENCE:3
DTSTAMP:20260422T102753Z
URL:https://business.mantenochamber.com/events/details/lunch-learn-power-hour-with-imec-86
END:VEVENT

END:VCALENDAR
