BEGIN:VCALENDAR
VERSION:2.0
PRODID:-//ChamberMaster//Event Calendar 2.0//EN
METHOD:PUBLISH
X-PUBLISHED-TTL:P3D
REFRESH-INTERVAL:P3D
CALSCALE:GREGORIAN
BEGIN:VEVENT
DTSTART:20171019T163000Z
DTEND:20171019T173000Z
X-MICROSOFT-CDO-ALLDAYEVENT:FALSE
SUMMARY:Lunch & Learn: Sticking Points: Managing Across Generations
DESCRIPTION:Using Haydn Shaw's best-selling book Sticking Points\, participants will learn about the challenges employers face with four generations side-by-side in the workplace: Traditionalists\, Baby Boomers\, Gen X\, and Millennials. The session will examine Shaw's observations of 12 places where these four generations typically "come apart" in the workplace. Then\, participants will learn how employers and employees can learn to speak each other's languages.  Presented by Dr. Kris Condon\, Professor & Program Coordinator at KCC.
X-ALT-DESC;FMTTYPE=text/html:<span style="color:#676767\;">Using <a href="http://mygenerationalcoach.com/">Haydn Shaw</a>&rsquo\;s best-selling book <em><span style="font-family:calibri\,sans-serif\;"><a href="http://mygenerationalcoach.com/sticking-points-book/">Sticking Points</a></span></em></span>\, participants will&nbsp\;learn about the challenges employers face with four generations side-by-side in the workplace: Traditionalists\, Baby Boomers\, Gen X\, and Millennials. The session will examine&nbsp\;Shaw&rsquo\;s observations of 12 places where these four generations typically &ldquo\;come apart&rdquo\; in the workplace.&nbsp\;Then\,&nbsp\;participants will&nbsp\;learn how employers and employees&nbsp\;can learn to speak each other&rsquo\;s languages. &nbsp\;Presented by Dr. Kris Condon\, Professor &amp\; Program Coordinator at KCC.
LOCATION:Darla's Deli & Cafe 417 S. Locust St Manteno
UID:e.2824.53
SEQUENCE:3
DTSTAMP:20260424T022038Z
URL:https://business.mantenochamber.com/events/details/lunch-learn-sticking-points-managing-across-generations-53
END:VEVENT

END:VCALENDAR
