BEGIN:VCALENDAR
VERSION:2.0
PRODID:-//ChamberMaster//Event Calendar 2.0//EN
METHOD:PUBLISH
X-PUBLISHED-TTL:P3D
REFRESH-INTERVAL:P3D
CALSCALE:GREGORIAN
BEGIN:VEVENT
DTSTART:20261024T160000Z
DTEND:20261024T190000Z
X-MICROSOFT-CDO-ALLDAYEVENT:FALSE
SUMMARY:Main Street Trick-or-Treat
DESCRIPTION:About the Event: Gather your ghouls and goblins for the Village of Manteno's Main Street Trick-or-Treat in partnership with the Rotary Club of Manteno and the Manteno Chamber of Commerce. Trick-or-Treat down Main Street and enjoy seasonal activities at The Square on 2nd!\n\n \n\nEvent Time: 11AM -2PM\n\n \n\nBusinesses must bring a 10x10 pop up tent and are encouraged to decorate their space.\n\nBusinesses can expect 500+ trick-or-treaters.\n\nIf you are a business located on Main Street you do not need to set up a tent.\n\n \nCheck in: Check in begins at 9:30AM at the chamber tent at The Square on 2nd. From there businesses will be assigned their set up location.
X-ALT-DESC;FMTTYPE=text/html:<div style="border: 0px\; font-variant-numeric: inherit\; font-variant-east-asian: inherit\; font-variant-alternates: inherit\; font-variant-position: inherit\; font-stretch: inherit\; font-size: 16px\; line-height: inherit\; font-family: Calibri\, Arial\, Helvetica\, sans-serif\; font-optical-sizing: inherit\; font-kerning: inherit\; font-feature-settings: inherit\; font-variation-settings: inherit\; margin: 0px\; padding: 0px\; vertical-align: baseline\; background-color: rgb(255\, 255\, 255)\;">\n<div style="font-size: 14pt\; list-style: disc\;"><span style="border: 0px\; font-style: inherit\; font-variant: inherit\; font-weight: inherit\; font-stretch: inherit\; font-size: 14pt\; line-height: inherit\; font-family: inherit\; font-optical-sizing: inherit\; font-kerning: inherit\; font-feature-settings: inherit\; font-variation-settings: inherit\; margin: 0px\; padding: 0px\; vertical-align: baseline\; color: inherit\;"><span style="border: 0px\; font-style: inherit\; font-variant: inherit\; font-weight: inherit\; font-stretch: inherit\; font-size: 16pt\; line-height: 22.8267px\; font-family: Symbol\; font-optical-sizing: inherit\; font-kerning: inherit\; font-feature-settings: inherit\; font-variation-settings: inherit\; margin: 0px\; padding: 0px\; vertical-align: baseline\; color: inherit\;"><span style="border: 0px\; font: inherit\; margin: 0px\; padding: 0px\; vertical-align: baseline\; color: inherit\;"><span color:="" font-feature-settings:="" font-kerning:="" font-optical-sizing:="" font-variation-settings:="" margin:="" new="" padding:="" style="border: 0px\; font-style: inherit\; font-variant: inherit\; font-weight: inherit\; font-stretch: inherit\; font-size: 14pt\; line-height: inherit\; font-family: " times="" vertical-align:="">&#8203\;</span></span></span></span>\n<div>\n<div class="x_elementToProof" dir="ltr" style="border: 0px\; font-style: inherit\; font-variant: inherit\; font-weight: inherit\; font-stretch: inherit\; font-size: 12pt\; line-height: inherit\; font-family: Aptos\, Aptos_EmbeddedFont\, Aptos_MSFontService\, Calibri\, Helvetica\, sans-serif\; font-optical-sizing: inherit\; font-size-adjust: inherit\; font-kerning: inherit\; font-feature-settings: inherit\; font-variation-settings: inherit\; margin: 0px\; padding: 0px\; vertical-align: baseline\; color: inherit\;">\n<div style="border: 0px\; font: inherit\; margin: 0px\; padding: 0px\; vertical-align: baseline\; color: inherit\;"><span style="font-size:22px\;"><strong>About the Event: Gather your ghouls and goblins for the Village of Manteno&rsquo\;s Main Street Trick-or-Treat in partnership with the Rotary Club of Manteno and the Manteno Chamber of Commerce. Trick-or-Treat down Main Street and enjoy seasonal activities at The Square on 2nd!</strong></span></div>\n\n<div dir="ltr" style="border: 0px\; font: inherit\; margin: 0px\; padding: 0px\; vertical-align: baseline\; color: inherit\;">&nbsp\;</div>\n\n<div style="border: 0px\; font: inherit\; margin: 0px\; padding: 0px\; vertical-align: baseline\; color: inherit\;"><span style="font-size:22px\;"><strong>Event Time: 11AM -2PM</strong></span></div>\n\n<div dir="ltr" style="border: 0px\; font: inherit\; margin: 0px\; padding: 0px\; vertical-align: baseline\; color: inherit\;">&nbsp\;</div>\n\n<div style="border: 0px\; font: inherit\; margin: 0px\; padding: 0px\; vertical-align: baseline\; color: inherit\;"><span style="font-size:22px\;"><strong>Businesses must bring a 10x10 pop up tent and are encouraged to decorate their space.</strong></span></div>\n\n<div style="border: 0px\; font: inherit\; margin: 0px\; padding: 0px\; vertical-align: baseline\; color: inherit\;"><span style="font-size:22px\;"><strong>Businesses can expect 500+ trick-or-treaters.</strong></span></div>\n\n<div style="border: 0px\; font: inherit\; margin: 0px\; padding: 0px\; vertical-align: baseline\; color: inherit\;"><span style="font-size:22px\;"><strong>If you are a business located on Main Street you do not need to set up a tent.</strong></span></div>\n\n<div dir="ltr" style="border: 0px\; font: inherit\; margin: 0px\; padding: 0px\; vertical-align: baseline\; color: inherit\;">&nbsp\;</div>\n<span style="font-size:22px\;"><strong>Check in: Check in begins at 9:30AM at the chamber tent at The Square on 2nd. From there businesses will be assigned their set up location.</strong></span></div>\n\n<div class="x_elementToProof" dir="ltr" style="border: 0px\; font-style: inherit\; font-variant: inherit\; font-weight: inherit\; font-stretch: inherit\; font-size: 12pt\; line-height: inherit\; font-family: Aptos\, Aptos_EmbeddedFont\, Aptos_MSFontService\, Calibri\, Helvetica\, sans-serif\; font-optical-sizing: inherit\; font-size-adjust: inherit\; font-kerning: inherit\; font-feature-settings: inherit\; font-variation-settings: inherit\; margin: 0px\; padding: 0px\; vertical-align: baseline\; color: rgb(0\, 0\, 0)\;">&nbsp\;</div>\n</div>\n\n<div>&nbsp\;</div>\n</div>\n</div>\n
LOCATION:
UID:e.2824.1638
SEQUENCE:3
DTSTAMP:20260420T112818Z
URL:https://business.mantenochamber.com/events/details/main-street-trick-or-treat-1638
END:VEVENT

END:VCALENDAR
