BEGIN:VCALENDAR
VERSION:2.0
PRODID:-//ChamberMaster//Event Calendar 2.0//EN
METHOD:PUBLISH
X-PUBLISHED-TTL:P3D
REFRESH-INTERVAL:P3D
CALSCALE:GREGORIAN
BEGIN:VEVENT
DTSTART:20180320T150000Z
DTEND:20180320T160000Z
X-MICROSOFT-CDO-ALLDAYEVENT:FALSE
SUMMARY:Ribbon Cutting: Innovel Solutions
DESCRIPTION:Please join us in celebrating  Innovel's Member Experience Organization Call Center to learn more about our value-added services\, dedicated customer care and how they provide end   to   end logistics solutions for their clients.  Visitors will get a tour as well as complimentary refreshments.
X-ALT-DESC;FMTTYPE=text/html:Please join us in celebrating&nbsp\;&nbsp\;Innovel&#39\;s&nbsp\;Member Experience Organization Call Center to learn more about our value-added services\, dedicated customer care and how they provide end &ndash\; to &ndash\; end logistics solutions for their clients.&nbsp\; Visitors will get a tour as well as complimentary refreshments.
LOCATION:1600 Boudreau Road Manteno
UID:e.2824.79
SEQUENCE:3
DTSTAMP:20260423T170549Z
URL:https://business.mantenochamber.com/events/details/ribbon-cutting-innovel-solutions-79
END:VEVENT

END:VCALENDAR
